BEGIN:VCALENDAR
VERSION:2.0
PRODID:-//Advanced Intellect//aspNetEmail Calendar Writer(v4.0.0.57)//EN
METHOD:POST
BEGIN:VTIMEZONE
LAST-MODIFIED:20260423T050006Z
TZID:US Mountain Standard Time
BEGIN:STANDARD
DTSTART:16010101T000000
TZOFFSETFROM:-0700
TZOFFSETTO:-0700
TZNAME:USMST
END:STANDARD
END:VTIMEZONE
BEGIN:VEVENT
DTSTART;TZID="US Mountain Standard Time":20220815T000000
DTEND;TZID="US Mountain Standard Time":20220818T000000
UID:f39c75eb-1ddd-4d80-979a-269f3f068a97
CREATED:20260423T120006Z
DTSTAMP:20260423T120006Z
LAST-MODIFIED:20260423T120006Z
DESCRIPTION:
CLASS:PUBLIC
LOCATION:
PRIORITY:5
SUMMARY:Ouray Adventure Trip 2022
TRANSP:OPAQUE
SEQUENCE:0
ORGANIZER;CN="Jeneva Dowell":MAILTO:jdowell@azag.org
STATUS:NEEDS ACTION
BEGIN:VALARM
DESCRIPTION:Ouray Adventure Trip 2022
ACTION:DISPLAY
TRIGGER:-PT30M
END:VALARM
END:VEVENT
END:VCALENDAR